0.000129764276307
0.000000000000000
0.000000000000000
-0.000129764276307
-53.836769375962405
-25.955905178500696
